BEGIN:VCALENDAR
VERSION:2.0
PRODID:-//Tukios.com/
BEGIN:VEVENT
UID:f099346c-52cf-48ff-a0f1-68ecaa272214@www.sigsfuneralservices.com
DTSTAMP:20260425T024711Z
DTSTART:20260607T210000Z
DTEND:20260607T220000Z
SUMMARY:Celebration of  Steve' Life
DESCRIPTION:
URL:https://www.sigsfuneralservices.com/obituaries/steve-hayes
LOCATION:Glenn Echo 7694 Goodwin Road  Everson WA 98247
GEO:48.9199062;-122.2872935
END:VEVENT
END:VCALENDAR