BEGIN:VCALENDAR
VERSION:2.0
PRODID:-//Tukios.com/
BEGIN:VEVENT
UID:83915417-2222-45eb-b9e7-537b51de5ef9@www.sigsfuneralservices.com
DTSTAMP:20260420T220634Z
DTSTART:20260427T213000Z
DTEND:20260427T223000Z
SUMMARY:Graveside Service
DESCRIPTION:
URL:https://www.sigsfuneralservices.com/obituaries/roger-mccarthy
LOCATION:Enterprise Cemetery 7041 Vista Drive  Ferndale WA 98248
GEO:48.8959941;-122.6256597
END:VEVENT
END:VCALENDAR