BEGIN:VCALENDAR
VERSION:2.0
PRODID:-//Tukios.com/
BEGIN:VEVENT
UID:2118d62f-a3c6-46db-b069-e1c8a734f76d@www.sigsfuneralservices.com
DTSTAMP:20260420T221102Z
DTSTART:20260427T180000Z
DTEND:20260427T190000Z
SUMMARY:Celebration of Life
DESCRIPTION:
URL:https://www.sigsfuneralservices.com/obituaries/roger-mccarthy
LOCATION:North Bay Community Church 4895 Birch Bay Lynden Road  Blaine WA 
	98230
GEO:48.935658;-122.7475651
END:VEVENT
END:VCALENDAR