BEGIN:VCALENDAR
VERSION:2.0
PRODID:-//Tukios.com/
BEGIN:VEVENT
UID:fc294b2c-26a2-4f82-981c-5a15073291a4@www.sigsfuneralservices.com
DTSTAMP:20260423T205855Z
DTSTART:20260502T200000Z
DTEND:20260502T210000Z
SUMMARY:Memorial Service
DESCRIPTION:
URL:https://www.sigsfuneralservices.com/obituaries/celeste-westermann
LOCATION: 1471 McLeod Road  Bellingham WA 98226
GEO:48.7817424;-122.4113867
END:VEVENT
END:VCALENDAR